BEGIN:VCALENDAR
VERSION:2.0
PRODID:-//Red Lodge Mountain - ECPv6.13.2//NONSGML v1.0//EN
CALSCALE:GREGORIAN
METHOD:PUBLISH
X-WR-CALNAME:Red Lodge Mountain
X-ORIGINAL-URL:https://www.redlodgemountain.com
X-WR-CALDESC:Events for Red Lodge Mountain
REFRESH-INTERVAL;VALUE=DURATION:PT1H
X-Robots-Tag:noindex
X-PUBLISHED-TTL:PT1H
BEGIN:VTIMEZONE
TZID:America/Denver
BEGIN:DAYLIGHT
TZOFFSETFROM:-0700
TZOFFSETTO:-0600
TZNAME:MDT
DTSTART:20200308T090000
END:DAYLIGHT
BEGIN:STANDARD
TZOFFSETFROM:-0600
TZOFFSETTO:-0700
TZNAME:MST
DTSTART:20201101T080000
END:STANDARD
END:VTIMEZONE
BEGIN:VEVENT
DTSTART;TZID=America/Denver:20200328T093000
DTEND;TZID=America/Denver:20200328T160000
DTSTAMP:20260420T040618
CREATED:20200208T164746Z
LAST-MODIFIED:20200315T200511Z
UID:10000800-1585387800-1585411200@www.redlodgemountain.com
SUMMARY:SheJumps Jr. Patrol Day-CANCELED
DESCRIPTION:Join us for Wild Skills Junior Ski Patrol\, a day camp at Red Lodge Mountain on Saturday\, March 28!  In this event\, girls will learn mountain safety and first-aid while working with the strong women of the Red Lodge Mountain ski patrol. This event is intended for girls\, who are intermediate to expert skiers/snowboarders\, and between ages 8 – 17 years.\n\n\n\n\n\nRegistration is $45 per girl\, lift tickets\, lunch\, and activities are provided with registration. Scholarships are available through SheJumps for those who cannot afford the registration.\n\n\nCLICK HERE TO REGISTER \nCLICK HERE TO VOLUNTEER \n  \n 
URL:https://www.redlodgemountain.com/event/she-jumps-jr-patrol-day/
CATEGORIES:Events,MOUNTAIN EVENTS
ATTACH;FMTTYPE=image/jpeg:https://www.redlodgemountain.com/wp-content/uploads/She-Jumps-Junior-Ski-Patrol-Red-Lodge-Mountain-Montana-Ski-Resort-v2.jpg
ORGANIZER;CN="SheJumps":MAILTO:hleonardson@shejumps.org
END:VEVENT
END:VCALENDAR