BEGIN:VCALENDAR
VERSION:2.0
PRODID:-//Red Lodge Mountain - ECPv6.13.2//NONSGML v1.0//EN
CALSCALE:GREGORIAN
METHOD:PUBLISH
X-ORIGINAL-URL:https://www.redlodgemountain.com
X-WR-CALDESC:Events for Red Lodge Mountain
REFRESH-INTERVAL;VALUE=DURATION:PT1H
X-Robots-Tag:noindex
X-PUBLISHED-TTL:PT1H
BEGIN:VTIMEZONE
TZID:America/Denver
BEGIN:DAYLIGHT
TZOFFSETFROM:-0700
TZOFFSETTO:-0600
TZNAME:MDT
DTSTART:20260308T090000
END:DAYLIGHT
BEGIN:STANDARD
TZOFFSETFROM:-0600
TZOFFSETTO:-0700
TZNAME:MST
DTSTART:20261101T080000
END:STANDARD
END:VTIMEZONE
BEGIN:VEVENT
DTSTART;VALUE=DATE:20260220
DTEND;VALUE=DATE:20260223
DTSTAMP:20260423T150352
CREATED:20260131T223127Z
LAST-MODIFIED:20260131T223146Z
UID:10002530-1771545600-1771804799@www.redlodgemountain.com
SUMMARY:YSL Races
DESCRIPTION:The Youth Ski League Championships will be held on Saturday and Sunday (2/20-2/22).
URL:https://www.redlodgemountain.com/event/ysl-races-2/
ATTACH;FMTTYPE=image/jpeg:https://www.redlodgemountain.com/wp-content/uploads/Silver-Run_1.jpg
END:VEVENT
BEGIN:VEVENT
DTSTART;TZID=America/Denver:20260222T133000
DTEND;TZID=America/Denver:20260223T143000
DTSTAMP:20260423T150352
CREATED:20260203T213333Z
LAST-MODIFIED:20260204T155843Z
UID:10002535-1771767000-1771857000@www.redlodgemountain.com
SUMMARY:Sunday Power Hour Lessons
DESCRIPTION:Need a quick tune-up or want to target a specific skill to improve your skiing? Make Sunday afternoons awesome with our 1-hour Power Lesson for only $40! Lessons begin at 1:30 PM at the YURT next to the top of the Stache Express. Available to Adult and Trailblazer age skiers. \n1-HOUR ADULT OR TRAILBLAZER SKI GROUP LESSONS \nGet your group of friends together and bring your ski topic or come as you are to the Yurt at the top of the ‘Stache Express for a quick Power Hour lesson guaranteed to get you moving in the direction you want to go. Lessons begin at the Yurt on the top of Miami Beach every Sunday at 1:30. From there\, we have access to green\, blue\, and black terrain\, groomed and ungroomed. The awesome power of our high-speed chairlift will ensure you’ll get your laps in. These lessons are not for first-time skiers. Whether you’re interested in gaining more control on the hill or if you want to step up your game off-piste or in the moguls (terrain permitting)\, we have a group for you. All classes will be coached by our most decorated\, PSIA-certified staff members. They’re ready to rock and roll and get you where you want to go. We leave the yurt at 1:30 sharp\, so plan on some lift time to get you there. Join us! \nCLICK HERE TO PURCHASE!
URL:https://www.redlodgemountain.com/event/sunday-power-hour-lessons/2026-02-22/
ATTACH;FMTTYPE=image/jpeg:https://www.redlodgemountain.com/wp-content/uploads/Sunday-Power-Hour-Lessons-Web-Events.jpg
END:VEVENT
BEGIN:VEVENT
DTSTART;TZID=America/Denver:20260222T140000
DTEND;TZID=America/Denver:20260222T170000
DTSTAMP:20260423T150352
CREATED:20260131T155228Z
LAST-MODIFIED:20260131T155312Z
UID:10002523-1771768800-1771779600@www.redlodgemountain.com
SUMMARY:Live Music @ The Bierstube w/ One Handsome Devil
DESCRIPTION:Join us for live music at the Bierstube with singer/songwriter\, One Handsome Devil! \n“This Montana-based musician delivers polished\, engaging performances that enhance any intimate event while being effortless to work with.”
URL:https://www.redlodgemountain.com/event/live-music-the-bierstube-3/
ATTACH;FMTTYPE=image/jpeg:https://www.redlodgemountain.com/wp-content/uploads/One-Handsome-Devil-scaled.jpg
END:VEVENT
BEGIN:VEVENT
DTSTART;VALUE=DATE:20260227
DTEND;VALUE=DATE:20260301
DTSTAMP:20260423T150352
CREATED:20260131T203228Z
LAST-MODIFIED:20260224T171355Z
UID:10002526-1772150400-1772323199@www.redlodgemountain.com
SUMMARY:Red Lodge Randoneé Races
DESCRIPTION:Brought to you by Red Lodge Events! \nRed Lodge Mountain is hosting a skimo race! Grab your AT gear (alpine touring\, tele\, or splitboard) and let’s go uphill! Three course offerings for all abilities: \nVertical -a night race to the top of Lazy M\, only the ascent is timed. \nShort – an intro to skimo with skinning ascents\, bootpacking\, and fun descents. The entire course is timed. \nLong -you’ll travel all across the ski area\, gaining 4\,500ft before you cross the finish line. The entire course is timed. \nFriday\, Feb 27-VERTICAL\n5:00pm at Red Lodge mountain \nSaturday\, Feb 28 -SHORT/LONG\n7:00Am at Red Lodge mountain \nPacket pick up for all races from 3-6\nFebruary\, 27\nRed Lodge Mountain\n305 Ski Run Road\, Red Lodge\, MT \nUphill will be closed to the public on Friday night and Saturday morning. Randonnée racers will utilize the uphill parking area. Anticipate the same traffic and volume we’re seeing this weekend. \n \nCLICK HERE FOR MORE INFORMATION!\n 
URL:https://www.redlodgemountain.com/event/red-lodge-randonee-races/
ATTACH;FMTTYPE=image/png:https://www.redlodgemountain.com/wp-content/uploads/skimologo.png
END:VEVENT
BEGIN:VEVENT
DTSTART;VALUE=DATE:20260227
DTEND;VALUE=DATE:20260302
DTSTAMP:20260423T150352
CREATED:20260207T180041Z
LAST-MODIFIED:20260207T180041Z
UID:10002595-1772150400-1772409599@www.redlodgemountain.com
SUMMARY:Junior GS Race
DESCRIPTION:From February 27 through March 1\, we will be hosting a junior GS race on Lower Limited.
URL:https://www.redlodgemountain.com/event/junior-gs-race/
ATTACH;FMTTYPE=image/jpeg:https://www.redlodgemountain.com/wp-content/uploads/RaceInProgress.jpg
END:VEVENT
BEGIN:VEVENT
DTSTART;TZID=America/Denver:20260228T160000
DTEND;TZID=America/Denver:20260228T180000
DTSTAMP:20260423T150352
CREATED:20260131T205237Z
LAST-MODIFIED:20260131T205237Z
UID:10002527-1772294400-1772301600@www.redlodgemountain.com
SUMMARY:Trivia @ The Bierstube
DESCRIPTION:Get your thinking caps on and compete with your friends at The Bierstube! We will kick things off at 4:00 PM\, and have some great prizes to give away!
URL:https://www.redlodgemountain.com/event/trivia-the-bierstube-2/
ATTACH;FMTTYPE=image/jpeg:https://www.redlodgemountain.com/wp-content/uploads/Trivia-Night.jpg
END:VEVENT
END:VCALENDAR