BEGIN:VCALENDAR
VERSION:2.0
PRODID:-//Red Lodge Mountain - ECPv6.13.2//NONSGML v1.0//EN
CALSCALE:GREGORIAN
METHOD:PUBLISH
X-ORIGINAL-URL:https://www.redlodgemountain.com
X-WR-CALDESC:Events for Red Lodge Mountain
REFRESH-INTERVAL;VALUE=DURATION:PT1H
X-Robots-Tag:noindex
X-PUBLISHED-TTL:PT1H
BEGIN:VTIMEZONE
TZID:America/Denver
BEGIN:DAYLIGHT
TZOFFSETFROM:-0700
TZOFFSETTO:-0600
TZNAME:MDT
DTSTART:20250309T090000
END:DAYLIGHT
BEGIN:STANDARD
TZOFFSETFROM:-0600
TZOFFSETTO:-0700
TZNAME:MST
DTSTART:20251102T080000
END:STANDARD
END:VTIMEZONE
BEGIN:VEVENT
DTSTART;TZID=America/Denver:20250112T140000
DTEND;TZID=America/Denver:20250112T170000
DTSTAMP:20260425T205554
CREATED:20241201T155055Z
LAST-MODIFIED:20241201T155107Z
UID:10002003-1736690400-1736701200@www.redlodgemountain.com
SUMMARY:LIVE MUSIC @ The Bierstube - Kennan Krause
DESCRIPTION:Kennan Krause of Lost Canyons takes the stage on January 12\, from 2-5PM! He has been playing music in the Bozeman area for over three years. Playing a unique alt-rock sound\, Krause plays a healthy mix of recognizable covers and original tunes from the full band’s shows.
URL:https://www.redlodgemountain.com/event/live-music-the-bierstube-kennan-krause/
ATTACH;FMTTYPE=image/jpeg:https://www.redlodgemountain.com/wp-content/uploads/Kennan-Krause-Lost-Canyons.jpeg
END:VEVENT
END:VCALENDAR