BEGIN:VCALENDAR
VERSION:2.0
PRODID:-//Red Lodge Mountain - ECPv6.13.2//NONSGML v1.0//EN
CALSCALE:GREGORIAN
METHOD:PUBLISH
X-ORIGINAL-URL:https://www.redlodgemountain.com
X-WR-CALDESC:Events for Red Lodge Mountain
REFRESH-INTERVAL;VALUE=DURATION:PT1H
X-Robots-Tag:noindex
X-PUBLISHED-TTL:PT1H
BEGIN:VTIMEZONE
TZID:America/Denver
BEGIN:DAYLIGHT
TZOFFSETFROM:-0700
TZOFFSETTO:-0600
TZNAME:MDT
DTSTART:20240310T090000
END:DAYLIGHT
BEGIN:STANDARD
TZOFFSETFROM:-0600
TZOFFSETTO:-0700
TZNAME:MST
DTSTART:20241103T080000
END:STANDARD
END:VTIMEZONE
BEGIN:VEVENT
DTSTART;TZID=America/Denver:20241229T140000
DTEND;TZID=America/Denver:20241229T170000
DTSTAMP:20260421T025426
CREATED:20241226T180443Z
LAST-MODIFIED:20241226T180443Z
UID:10002409-1735480800-1735491600@www.redlodgemountain.com
SUMMARY:LIVE MUSIC @ THE BIERSTUBE! - Russ Chapman
DESCRIPTION:Russ Chapman is a songwriter and storyteller. Winner of the Telluride Emerging Blues Artist award\, his upbeat folk-blues sensibility is matched with creative word-smithing and light-hearted humor. Russ takes the stage at the Bierstube from 2-5pm!
URL:https://www.redlodgemountain.com/event/live-music-the-bierstube-russ-chapman/
ATTACH;FMTTYPE=image/jpeg:https://www.redlodgemountain.com/wp-content/uploads/Russ-Chapman-Music.jpg
END:VEVENT
BEGIN:VEVENT
DTSTART;TZID=America/Denver:20241231T160000
DTEND;TZID=America/Denver:20241231T190000
DTSTAMP:20260421T025426
CREATED:20241227T184821Z
LAST-MODIFIED:20241227T184821Z
UID:10002410-1735660800-1735671600@www.redlodgemountain.com
SUMMARY:New Year's Eve Après Ski Party!
DESCRIPTION:Ring in the New Year on the mountain!\nStarting at 4:00pm we will have live music in the Bierstube and bonfires outside. Bring your best snow dances and make room for smores!
URL:https://www.redlodgemountain.com/event/new-years-eve-apres-ski-party/
ATTACH;FMTTYPE=image/jpeg:https://www.redlodgemountain.com/wp-content/uploads/New-Years-Frame-Hold.jpg
END:VEVENT
END:VCALENDAR