BEGIN:VCALENDAR
VERSION:2.0
PRODID:-//Red Lodge Mountain - ECPv6.13.2//NONSGML v1.0//EN
CALSCALE:GREGORIAN
METHOD:PUBLISH
X-WR-CALNAME:Red Lodge Mountain
X-ORIGINAL-URL:https://www.redlodgemountain.com
X-WR-CALDESC:Events for Red Lodge Mountain
REFRESH-INTERVAL;VALUE=DURATION:PT1H
X-Robots-Tag:noindex
X-PUBLISHED-TTL:PT1H
BEGIN:VTIMEZONE
TZID:America/Denver
BEGIN:DAYLIGHT
TZOFFSETFROM:-0700
TZOFFSETTO:-0600
TZNAME:MDT
DTSTART:20240310T090000
END:DAYLIGHT
BEGIN:STANDARD
TZOFFSETFROM:-0600
TZOFFSETTO:-0700
TZNAME:MST
DTSTART:20241103T080000
END:STANDARD
END:VTIMEZONE
BEGIN:VEVENT
DTSTART;TZID=America/Denver:20240407T140000
DTEND;TZID=America/Denver:20240407T170000
DTSTAMP:20260419T095728
CREATED:20231206T192652Z
LAST-MODIFIED:20231222T213446Z
UID:10001454-1712498400-1712509200@www.redlodgemountain.com
SUMMARY:Live Music at the Stube!
DESCRIPTION:Come experience music made to revitalize mind\, body\, and soul with exhuming lyrics and heart-thumping percussion. Thunk! will be playing live at the Bierstube from 2-5pm on April 7th!
URL:https://www.redlodgemountain.com/event/live-music-at-the-stube-39/
ATTACH;FMTTYPE=image/jpeg:https://www.redlodgemountain.com/wp-content/uploads/Thunk.jpg
END:VEVENT
BEGIN:VEVENT
DTSTART;TZID=America/Denver:20240413T130000
DTEND;TZID=America/Denver:20240413T143000
DTSTAMP:20260419T095728
CREATED:20240404T152623Z
LAST-MODIFIED:20240404T152623Z
UID:10001493-1713013200-1713018600@www.redlodgemountain.com
SUMMARY:2024 Mini Monster Rail Jam
DESCRIPTION:The Mini Monster Park competition is open to all shredders ages 12 and under at the Miami Beach Terrain Park. Registration is free and all skill levels are welcome. Helmets are required! \n  \nCompetition: 1:00pm-2:30pm @ Miami Beach Terrain Park \nAward Ceremony: 3:00pm in the Courtyard \n  \nDay of registration begins at 12pm @ the Miami Beach Terrain Park.  Bring an adult to sign your waiver!
URL:https://www.redlodgemountain.com/event/2024-mini-monster-rail-jam-2/
ATTACH;FMTTYPE=image/jpeg:https://www.redlodgemountain.com/wp-content/uploads/MiniMonster2024.jpg
END:VEVENT
END:VCALENDAR