BEGIN:VCALENDAR
VERSION:2.0
PRODID:-//Red Lodge Mountain - ECPv6.13.2//NONSGML v1.0//EN
CALSCALE:GREGORIAN
METHOD:PUBLISH
X-ORIGINAL-URL:https://www.redlodgemountain.com
X-WR-CALDESC:Events for Red Lodge Mountain
REFRESH-INTERVAL;VALUE=DURATION:PT1H
X-Robots-Tag:noindex
X-PUBLISHED-TTL:PT1H
BEGIN:VTIMEZONE
TZID:America/Denver
BEGIN:DAYLIGHT
TZOFFSETFROM:-0700
TZOFFSETTO:-0600
TZNAME:MDT
DTSTART:20240310T090000
END:DAYLIGHT
BEGIN:STANDARD
TZOFFSETFROM:-0600
TZOFFSETTO:-0700
TZNAME:MST
DTSTART:20241103T080000
END:STANDARD
END:VTIMEZONE
BEGIN:VEVENT
DTSTART;TZID=America/Denver:20240324T140000
DTEND;TZID=America/Denver:20240324T170000
DTSTAMP:20260419T102328
CREATED:20231206T192414Z
LAST-MODIFIED:20240104T193227Z
UID:10001453-1711288800-1711299600@www.redlodgemountain.com
SUMMARY:Eagle Mount Appreciation Party
DESCRIPTION:Swing by the Stube on March 24th and show appreciation for an AMAZING program. Eagle Mount has been creating meaningful experiences for people with disabilities through adaptive recreation since 1983. \nGrab a drink\, enjoy some tasty food\, and listen to the live-looping instrumentalist\, Brian Kassay! Stop by the Stube and show your support for a great cause from 2pm – 5pm!
URL:https://www.redlodgemountain.com/event/live-music-at-the-stube-38/
ATTACH;FMTTYPE=image/jpeg:https://www.redlodgemountain.com/wp-content/uploads/EagleMount-1.jpg
END:VEVENT
END:VCALENDAR