BEGIN:VCALENDAR
VERSION:2.0
PRODID:-//Red Lodge Mountain - ECPv6.13.2//NONSGML v1.0//EN
CALSCALE:GREGORIAN
METHOD:PUBLISH
X-ORIGINAL-URL:https://www.redlodgemountain.com
X-WR-CALDESC:Events for Red Lodge Mountain
REFRESH-INTERVAL;VALUE=DURATION:PT1H
X-Robots-Tag:noindex
X-PUBLISHED-TTL:PT1H
BEGIN:VTIMEZONE
TZID:America/Denver
BEGIN:DAYLIGHT
TZOFFSETFROM:-0700
TZOFFSETTO:-0600
TZNAME:MDT
DTSTART:20230312T090000
END:DAYLIGHT
BEGIN:STANDARD
TZOFFSETFROM:-0600
TZOFFSETTO:-0700
TZNAME:MST
DTSTART:20231105T080000
END:STANDARD
END:VTIMEZONE
BEGIN:VEVENT
DTSTART;TZID=America/Denver:20230803T173000
DTEND;TZID=America/Denver:20230803T210000
DTSTAMP:20260419T125122
CREATED:20220614T184755Z
LAST-MODIFIED:20230605T200102Z
UID:10001390-1691083800-1691096400@www.redlodgemountain.com
SUMMARY:Men's League
DESCRIPTION:Our Men’s Golf league takes place on Thursdays all summer long starting on June 15th! Play starts at 5:30 pm. \nFood and beverages will be served at 28 Peaks Kitchen on the patio! \nRegistration will be held in the clubhouse before tee-off.
URL:https://www.redlodgemountain.com/event/mens-league/2023-08-03/
LOCATION:Red Lodge Mountain Golf Course\, 828 Upper Continental Drive\, Red Lodge\, MT\, 59068\, United States
CATEGORIES:GOLF
ATTACH;FMTTYPE=image/jpeg:https://www.redlodgemountain.com/wp-content/uploads/Red_Lodge_Mountain_Golf_Course_Mens_League_Golfer_4.jpg
GEO:45.2025295;-109.2580964
X-APPLE-STRUCTURED-LOCATION;VALUE=URI;X-ADDRESS=Red Lodge Mountain Golf Course 828 Upper Continental Drive Red Lodge MT 59068 United States;X-APPLE-RADIUS=500;X-TITLE=828 Upper Continental Drive:geo:-109.2580964,45.2025295
END:VEVENT
BEGIN:VEVENT
DTSTART;TZID=America/Denver:20230806T150000
DTEND;TZID=America/Denver:20230806T180000
DTSTAMP:20260419T125122
CREATED:20230609T145547Z
LAST-MODIFIED:20230609T150148Z
UID:10001434-1691334000-1691344800@www.redlodgemountain.com
SUMMARY:Live Music @ RLM Golf Course!
DESCRIPTION:Groove to the electric sounds of Arterial Drive while you enjoy a signature cocktail on the patio! Playing live from 3-6pm.
URL:https://www.redlodgemountain.com/event/live-music-rlm-golf-course-4/
ATTACH;FMTTYPE=image/jpeg:https://www.redlodgemountain.com/wp-content/uploads/1.jpg
END:VEVENT
BEGIN:VEVENT
DTSTART;TZID=America/Denver:20230807T043000
DTEND;TZID=America/Denver:20230807T193000
DTSTAMP:20260419T125122
CREATED:20220614T180533Z
LAST-MODIFIED:20230806T184215Z
UID:10001379-1691382600-1691436600@www.redlodgemountain.com
SUMMARY:Ladies 9
DESCRIPTION:Ladies 9 – Every Monday starting June 12! \nLadies 9 is a laid-back night of golf\, food\, and drinks for ladies of all skill levels. \nTime: 4:30 PM \nBegins June 12 and continues every Monday through August 27th! \nA Game Format That Everyone Can EnjoyEach week we will be doing a Scramble format so you don’t have to stress about the bad shots and your whole team can celebrate the good shots. You get to choose your team so that you can play how you like to and at your own pace. \n28 Peaks Kitchen: \nOur 9-Hole Scramble will be followed up with food and drinks at 28 Peaks Kitchen on the patio! \nPrice: \nGolf (9 Holes & Cart): $25 (FREE for pass holders) \nFood and Beverage @ 28 Peaks Kitchen: $18
URL:https://www.redlodgemountain.com/event/ladies-9/2023-08-07/
LOCATION:Red Lodge Mountain Golf Course\, 828 Upper Continental Drive\, Red Lodge\, MT\, 59068\, United States
CATEGORIES:GOLF
ATTACH;FMTTYPE=image/jpeg:https://www.redlodgemountain.com/wp-content/uploads/Red_Lodge_Mountain_Golf_Course_Ladies_Nine_Group.jpg
END:VEVENT
BEGIN:VEVENT
DTSTART;TZID=America/Denver:20230810T173000
DTEND;TZID=America/Denver:20230810T210000
DTSTAMP:20260419T125122
CREATED:20220614T184755Z
LAST-MODIFIED:20230605T200102Z
UID:10001391-1691688600-1691701200@www.redlodgemountain.com
SUMMARY:Men's League
DESCRIPTION:Our Men’s Golf league takes place on Thursdays all summer long starting on June 15th! Play starts at 5:30 pm. \nFood and beverages will be served at 28 Peaks Kitchen on the patio! \nRegistration will be held in the clubhouse before tee-off.
URL:https://www.redlodgemountain.com/event/mens-league/2023-08-10/
LOCATION:Red Lodge Mountain Golf Course\, 828 Upper Continental Drive\, Red Lodge\, MT\, 59068\, United States
CATEGORIES:GOLF
ATTACH;FMTTYPE=image/jpeg:https://www.redlodgemountain.com/wp-content/uploads/Red_Lodge_Mountain_Golf_Course_Mens_League_Golfer_4.jpg
GEO:45.2025295;-109.2580964
X-APPLE-STRUCTURED-LOCATION;VALUE=URI;X-ADDRESS=Red Lodge Mountain Golf Course 828 Upper Continental Drive Red Lodge MT 59068 United States;X-APPLE-RADIUS=500;X-TITLE=828 Upper Continental Drive:geo:-109.2580964,45.2025295
END:VEVENT
BEGIN:VEVENT
DTSTART;TZID=America/Denver:20230813T080000
DTEND;TZID=America/Denver:20230813T170000
DTSTAMP:20260419T125122
CREATED:20230806T184329Z
LAST-MODIFIED:20230806T185213Z
UID:10001424-1691913600-1691946000@www.redlodgemountain.com
SUMMARY:Silver Run Golf Tournament
DESCRIPTION:Support the Silver Run Ski Team and enjoy a fun day of golf at the beautiful Red Lodge Mountain Golf Course! Get your team of 4 players together to play in a scramble format\, teams tee off at 10:00 am. We have great prizes for contests on each hole! As well as\, awards for low gross and net prizes. Make sure to take part in either the putting or chipping contests that are put on by our Silver Run athletes. We welcome players of ALL abilities! \nTee-times will be blocked off all day through 5:00 PM.
URL:https://www.redlodgemountain.com/event/silver-run-golf-tournament/
LOCATION:Red Lodge Mountain Golf Course\, 828 Upper Continental Drive\, Red Lodge\, MT\, 59068\, United States
ATTACH;FMTTYPE=image/jpeg:https://www.redlodgemountain.com/wp-content/uploads/Silver-Run_1.jpg
GEO:45.2025295;-109.2580964
X-APPLE-STRUCTURED-LOCATION;VALUE=URI;X-ADDRESS=Red Lodge Mountain Golf Course 828 Upper Continental Drive Red Lodge MT 59068 United States;X-APPLE-RADIUS=500;X-TITLE=828 Upper Continental Drive:geo:-109.2580964,45.2025295
END:VEVENT
BEGIN:VEVENT
DTSTART;TZID=America/Denver:20230813T150000
DTEND;TZID=America/Denver:20230813T180000
DTSTAMP:20260419T125122
CREATED:20230609T145928Z
LAST-MODIFIED:20230609T150024Z
UID:10001432-1691938800-1691949600@www.redlodgemountain.com
SUMMARY:Live Music @ RLM Golf Course!
DESCRIPTION:Experience music made to revitalize mind\, body\, and soul with exhuming lyrics and heart-thumping percussion. Thunk! will be playing live on the patio from 3-6pm!
URL:https://www.redlodgemountain.com/event/live-music-rlm-golf-course-5/
ATTACH;FMTTYPE=image/jpeg:https://www.redlodgemountain.com/wp-content/uploads/Thunk.jpg
END:VEVENT
BEGIN:VEVENT
DTSTART;TZID=America/Denver:20230814T043000
DTEND;TZID=America/Denver:20230814T193000
DTSTAMP:20260419T125122
CREATED:20220614T180533Z
LAST-MODIFIED:20230806T184215Z
UID:10001380-1691987400-1692041400@www.redlodgemountain.com
SUMMARY:Ladies 9
DESCRIPTION:Ladies 9 – Every Monday starting June 12! \nLadies 9 is a laid-back night of golf\, food\, and drinks for ladies of all skill levels. \nTime: 4:30 PM \nBegins June 12 and continues every Monday through August 27th! \nA Game Format That Everyone Can EnjoyEach week we will be doing a Scramble format so you don’t have to stress about the bad shots and your whole team can celebrate the good shots. You get to choose your team so that you can play how you like to and at your own pace. \n28 Peaks Kitchen: \nOur 9-Hole Scramble will be followed up with food and drinks at 28 Peaks Kitchen on the patio! \nPrice: \nGolf (9 Holes & Cart): $25 (FREE for pass holders) \nFood and Beverage @ 28 Peaks Kitchen: $18
URL:https://www.redlodgemountain.com/event/ladies-9/2023-08-14/
LOCATION:Red Lodge Mountain Golf Course\, 828 Upper Continental Drive\, Red Lodge\, MT\, 59068\, United States
CATEGORIES:GOLF
ATTACH;FMTTYPE=image/jpeg:https://www.redlodgemountain.com/wp-content/uploads/Red_Lodge_Mountain_Golf_Course_Ladies_Nine_Group.jpg
END:VEVENT
BEGIN:VEVENT
DTSTART;TZID=America/Denver:20230817T173000
DTEND;TZID=America/Denver:20230817T210000
DTSTAMP:20260419T125122
CREATED:20220614T184755Z
LAST-MODIFIED:20230605T200102Z
UID:10001392-1692293400-1692306000@www.redlodgemountain.com
SUMMARY:Men's League
DESCRIPTION:Our Men’s Golf league takes place on Thursdays all summer long starting on June 15th! Play starts at 5:30 pm. \nFood and beverages will be served at 28 Peaks Kitchen on the patio! \nRegistration will be held in the clubhouse before tee-off.
URL:https://www.redlodgemountain.com/event/mens-league/2023-08-17/
LOCATION:Red Lodge Mountain Golf Course\, 828 Upper Continental Drive\, Red Lodge\, MT\, 59068\, United States
CATEGORIES:GOLF
ATTACH;FMTTYPE=image/jpeg:https://www.redlodgemountain.com/wp-content/uploads/Red_Lodge_Mountain_Golf_Course_Mens_League_Golfer_4.jpg
GEO:45.2025295;-109.2580964
X-APPLE-STRUCTURED-LOCATION;VALUE=URI;X-ADDRESS=Red Lodge Mountain Golf Course 828 Upper Continental Drive Red Lodge MT 59068 United States;X-APPLE-RADIUS=500;X-TITLE=828 Upper Continental Drive:geo:-109.2580964,45.2025295
END:VEVENT
BEGIN:VEVENT
DTSTART;TZID=America/Denver:20230820T150000
DTEND;TZID=America/Denver:20230820T180000
DTSTAMP:20260419T125122
CREATED:20230609T151947Z
LAST-MODIFIED:20230609T152338Z
UID:10001430-1692543600-1692554400@www.redlodgemountain.com
SUMMARY:Live Music @ RLM Golf Course!
DESCRIPTION:Move your feet to the ensemble of energetic musicians that inspires the audience to dance and enjoy life! Pan Blanco will be playing live on the patio from 3pm-6pm!
URL:https://www.redlodgemountain.com/event/live-music-rlm-golf-course-6/
ATTACH;FMTTYPE=image/jpeg:https://www.redlodgemountain.com/wp-content/uploads/Pan-Blanco.jpg
END:VEVENT
BEGIN:VEVENT
DTSTART;TZID=America/Denver:20230821T043000
DTEND;TZID=America/Denver:20230821T193000
DTSTAMP:20260419T125122
CREATED:20220614T180533Z
LAST-MODIFIED:20230806T184215Z
UID:10001381-1692592200-1692646200@www.redlodgemountain.com
SUMMARY:Ladies 9
DESCRIPTION:Ladies 9 – Every Monday starting June 12! \nLadies 9 is a laid-back night of golf\, food\, and drinks for ladies of all skill levels. \nTime: 4:30 PM \nBegins June 12 and continues every Monday through August 27th! \nA Game Format That Everyone Can EnjoyEach week we will be doing a Scramble format so you don’t have to stress about the bad shots and your whole team can celebrate the good shots. You get to choose your team so that you can play how you like to and at your own pace. \n28 Peaks Kitchen: \nOur 9-Hole Scramble will be followed up with food and drinks at 28 Peaks Kitchen on the patio! \nPrice: \nGolf (9 Holes & Cart): $25 (FREE for pass holders) \nFood and Beverage @ 28 Peaks Kitchen: $18
URL:https://www.redlodgemountain.com/event/ladies-9/2023-08-21/
LOCATION:Red Lodge Mountain Golf Course\, 828 Upper Continental Drive\, Red Lodge\, MT\, 59068\, United States
CATEGORIES:GOLF
ATTACH;FMTTYPE=image/jpeg:https://www.redlodgemountain.com/wp-content/uploads/Red_Lodge_Mountain_Golf_Course_Ladies_Nine_Group.jpg
END:VEVENT
BEGIN:VEVENT
DTSTART;TZID=America/Denver:20230824T173000
DTEND;TZID=America/Denver:20230824T210000
DTSTAMP:20260419T125122
CREATED:20220614T184755Z
LAST-MODIFIED:20230605T200102Z
UID:10001393-1692898200-1692910800@www.redlodgemountain.com
SUMMARY:Men's League
DESCRIPTION:Our Men’s Golf league takes place on Thursdays all summer long starting on June 15th! Play starts at 5:30 pm. \nFood and beverages will be served at 28 Peaks Kitchen on the patio! \nRegistration will be held in the clubhouse before tee-off.
URL:https://www.redlodgemountain.com/event/mens-league/2023-08-24/
LOCATION:Red Lodge Mountain Golf Course\, 828 Upper Continental Drive\, Red Lodge\, MT\, 59068\, United States
CATEGORIES:GOLF
ATTACH;FMTTYPE=image/jpeg:https://www.redlodgemountain.com/wp-content/uploads/Red_Lodge_Mountain_Golf_Course_Mens_League_Golfer_4.jpg
GEO:45.2025295;-109.2580964
X-APPLE-STRUCTURED-LOCATION;VALUE=URI;X-ADDRESS=Red Lodge Mountain Golf Course 828 Upper Continental Drive Red Lodge MT 59068 United States;X-APPLE-RADIUS=500;X-TITLE=828 Upper Continental Drive:geo:-109.2580964,45.2025295
END:VEVENT
BEGIN:VEVENT
DTSTART;TZID=America/Denver:20230828T043000
DTEND;TZID=America/Denver:20230828T193000
DTSTAMP:20260419T125122
CREATED:20220614T180533Z
LAST-MODIFIED:20230806T184215Z
UID:10001382-1693197000-1693251000@www.redlodgemountain.com
SUMMARY:Ladies 9
DESCRIPTION:Ladies 9 – Every Monday starting June 12! \nLadies 9 is a laid-back night of golf\, food\, and drinks for ladies of all skill levels. \nTime: 4:30 PM \nBegins June 12 and continues every Monday through August 27th! \nA Game Format That Everyone Can EnjoyEach week we will be doing a Scramble format so you don’t have to stress about the bad shots and your whole team can celebrate the good shots. You get to choose your team so that you can play how you like to and at your own pace. \n28 Peaks Kitchen: \nOur 9-Hole Scramble will be followed up with food and drinks at 28 Peaks Kitchen on the patio! \nPrice: \nGolf (9 Holes & Cart): $25 (FREE for pass holders) \nFood and Beverage @ 28 Peaks Kitchen: $18
URL:https://www.redlodgemountain.com/event/ladies-9/2023-08-28/
LOCATION:Red Lodge Mountain Golf Course\, 828 Upper Continental Drive\, Red Lodge\, MT\, 59068\, United States
CATEGORIES:GOLF
ATTACH;FMTTYPE=image/jpeg:https://www.redlodgemountain.com/wp-content/uploads/Red_Lodge_Mountain_Golf_Course_Ladies_Nine_Group.jpg
END:VEVENT
BEGIN:VEVENT
DTSTART;TZID=America/Denver:20230831T173000
DTEND;TZID=America/Denver:20230831T210000
DTSTAMP:20260419T125122
CREATED:20220614T184755Z
LAST-MODIFIED:20230605T200102Z
UID:10001394-1693503000-1693515600@www.redlodgemountain.com
SUMMARY:Men's League
DESCRIPTION:Our Men’s Golf league takes place on Thursdays all summer long starting on June 15th! Play starts at 5:30 pm. \nFood and beverages will be served at 28 Peaks Kitchen on the patio! \nRegistration will be held in the clubhouse before tee-off.
URL:https://www.redlodgemountain.com/event/mens-league/2023-08-31/
LOCATION:Red Lodge Mountain Golf Course\, 828 Upper Continental Drive\, Red Lodge\, MT\, 59068\, United States
CATEGORIES:GOLF
ATTACH;FMTTYPE=image/jpeg:https://www.redlodgemountain.com/wp-content/uploads/Red_Lodge_Mountain_Golf_Course_Mens_League_Golfer_4.jpg
GEO:45.2025295;-109.2580964
X-APPLE-STRUCTURED-LOCATION;VALUE=URI;X-ADDRESS=Red Lodge Mountain Golf Course 828 Upper Continental Drive Red Lodge MT 59068 United States;X-APPLE-RADIUS=500;X-TITLE=828 Upper Continental Drive:geo:-109.2580964,45.2025295
END:VEVENT
END:VCALENDAR