BEGIN:VCALENDAR
VERSION:2.0
PRODID:-//Red Lodge Mountain - ECPv6.13.2//NONSGML v1.0//EN
CALSCALE:GREGORIAN
METHOD:PUBLISH
X-WR-CALNAME:Red Lodge Mountain
X-ORIGINAL-URL:https://www.redlodgemountain.com
X-WR-CALDESC:Events for Red Lodge Mountain
REFRESH-INTERVAL;VALUE=DURATION:PT1H
X-Robots-Tag:noindex
X-PUBLISHED-TTL:PT1H
BEGIN:VTIMEZONE
TZID:America/Denver
BEGIN:DAYLIGHT
TZOFFSETFROM:-0700
TZOFFSETTO:-0600
TZNAME:MDT
DTSTART:20190310T090000
END:DAYLIGHT
BEGIN:STANDARD
TZOFFSETFROM:-0600
TZOFFSETTO:-0700
TZNAME:MST
DTSTART:20191103T080000
END:STANDARD
END:VTIMEZONE
BEGIN:VEVENT
DTSTART;TZID=America/Denver:20190215T100000
DTEND;TZID=America/Denver:20190215T180000
DTSTAMP:20260419T112554
CREATED:20181022T184305Z
LAST-MODIFIED:20181206T201012Z
UID:10001287-1550224800-1550253600@www.redlodgemountain.com
SUMMARY:Town Series
DESCRIPTION:Town Series is a community ski/snowboard racing league that encourages participation from contestants of all ages and skill levels. \nRaces begin on Friday\, January 11\, 2019 and take place every Friday for six consecutive weeks. \nThere is a party for all racers that evening in town where winners are announced\, prizes are given\, and good times are had. \nThe final party will be held at the Red Lodge Pizza Co. starting at 5pm\, awards at 6pm. The season winners will be announced as well as the Atomic Ski winners. \n 
URL:https://www.redlodgemountain.com/event/town-series-2019-01-18-2019-02-15/
LOCATION:MT
CATEGORIES:Events,MOUNTAIN EVENTS
END:VEVENT
END:VCALENDAR