BEGIN:VCALENDAR
VERSION:2.0
PRODID:-//Red Lodge Mountain - ECPv6.13.2//NONSGML v1.0//EN
CALSCALE:GREGORIAN
METHOD:PUBLISH
X-ORIGINAL-URL:https://www.redlodgemountain.com
X-WR-CALDESC:Events for Red Lodge Mountain
REFRESH-INTERVAL;VALUE=DURATION:PT1H
X-Robots-Tag:noindex
X-PUBLISHED-TTL:PT1H
BEGIN:VTIMEZONE
TZID:America/Denver
BEGIN:DAYLIGHT
TZOFFSETFROM:-0700
TZOFFSETTO:-0600
TZNAME:MDT
DTSTART:20250309T090000
END:DAYLIGHT
BEGIN:STANDARD
TZOFFSETFROM:-0600
TZOFFSETTO:-0700
TZNAME:MST
DTSTART:20251102T080000
END:STANDARD
END:VTIMEZONE
BEGIN:VEVENT
DTSTART;VALUE=DATE:20251207
DTEND;VALUE=DATE:20251213
DTSTAMP:20260419T195140
CREATED:20251206T223401Z
LAST-MODIFIED:20251206T223401Z
UID:10002491-1765065600-1765583999@www.redlodgemountain.com
SUMMARY:Dust The Rust Camp
DESCRIPTION:The Silver Run Ski Team Masters group will be training all week long at Red Lodge Mountain! Please stay tuned to our snow report for updates regarding race setups.
URL:https://www.redlodgemountain.com/event/dust-the-rust-camp/
ATTACH;FMTTYPE=image/jpeg:https://www.redlodgemountain.com/wp-content/uploads/Silver-Run_1.jpg
END:VEVENT
END:VCALENDAR