BEGIN:VCALENDAR
VERSION:2.0
PRODID:-//Red Lodge Mountain - ECPv6.13.2//NONSGML v1.0//EN
CALSCALE:GREGORIAN
METHOD:PUBLISH
X-ORIGINAL-URL:https://www.redlodgemountain.com
X-WR-CALDESC:Events for Red Lodge Mountain
REFRESH-INTERVAL;VALUE=DURATION:PT1H
X-Robots-Tag:noindex
X-PUBLISHED-TTL:PT1H
BEGIN:VTIMEZONE
TZID:America/Denver
BEGIN:DAYLIGHT
TZOFFSETFROM:-0700
TZOFFSETTO:-0600
TZNAME:MDT
DTSTART:20250309T090000
END:DAYLIGHT
BEGIN:STANDARD
TZOFFSETFROM:-0600
TZOFFSETTO:-0700
TZNAME:MST
DTSTART:20251102T080000
END:STANDARD
END:VTIMEZONE
BEGIN:VEVENT
DTSTART;TZID=America/Denver:20250413T130000
DTEND;TZID=America/Denver:20250413T160000
DTSTAMP:20260423T105518
CREATED:20250311T191312Z
LAST-MODIFIED:20250411T152442Z
UID:10002417-1744549200-1744560000@www.redlodgemountain.com
SUMMARY:1st Annual Snow Rodeo @ Red Lodge Mountain
DESCRIPTION:Time to throw on your chaps and join us for the 1st Annual Snow Rodeo @ Red Lodge Mountain! This is a ski and ride hoedown for cowboys and cowgirls! \nSunday\, April 13\, 2025 | 1pm – 4pm \nThere will be 2 race disciplines on Upper Miami: \n• Saddlebag Slalom (1pm – 3pm) \nDual slalom\, two racers at a time \n\nTwo runs;\nThe winner of the first heat\, goes on to the second heat;\nThe non-winner of the first heat moves on to compete in the Giddy Up Downhill;\nThe second run is timed;\n\nThe top three fastest times in the second heat are winners. \n1st: 2025/26 4-pack Flex Tickets \n2nd: 2025/26 2-pack Flex Tickets \n3rd: 2025/26 1-pack Flex Tickets \nCourse Features: \nThe course starts out flat forcing racers to use their ski poles (or hop their snowboards for the first 50 feet of the course. The course then descends into a series of slalom gates to navigate\, leading to the lasso feature (all racers must lasso the steer head\, and retrieve their lasso) then slide on to navigate a figure eight barrel course\, and race on to the finish line\, click out of their skis or snowboard\, then run to a cattle tie feature where they must perform two wraps around the legs and finish with a half hitch knot. \n• Giddy Up Downhill (3pm – 4pm) \n\nOne run\, all racers at the same time;\n\nWinners will receive: \n1st: 2025/26 4-pack Flex Tickets \n2nd: 2025/26 2-pack Flex Tickets \n3rd: 2025/26 1-pack Flex Tickets \nCourse Features: the course starts out flat forcing racers to use their ski poles or hop their snowboards for the first 50 feet of the course. The course then descends Miami leading to jump feature(s) that racers must successfully clear on their way to the finish line. Moderate contact and use of hands and arms is allowed. No punching. \n  \nBest Combined – Best Combined Finish of Both Events (Cowboy\, Cowgirl\, Cowpoke (16 & Under) \n1st: 2025/26 Season Pass \n2nd: 2025/26 6-pack \n3rd: 2025/26 4-pack \n  \nFinishing off the festivities is the Denim Fashion Show on the Bierstube Deck @ 4pm. Fashionistas will be awarded Best Denim in adult\, child\, and group categories. Local favorite Chad Lore will also play live music on the Bierstube deck from 2pm – 5pm. \nThe entry fee is just $10 and includes afternoon lift access to the Stache Express for racers who don’t already have a lift ticket or season pass. Competitors will sign up in the courtyard on the day of the Snow Rodeo\, including a safety meeting and mandatory pre-race gear inspection. Open to ages 12 and older! \n 
URL:https://www.redlodgemountain.com/event/1st-annual-snow-rodeo-red-lodge-mountain/
ATTACH;FMTTYPE=image/jpeg:https://www.redlodgemountain.com/wp-content/uploads/SnowRodeo_Logo2025-scaled.jpg
END:VEVENT
BEGIN:VEVENT
DTSTART;TZID=America/Denver:20250413T140000
DTEND;TZID=America/Denver:20250413T170000
DTSTAMP:20260423T105518
CREATED:20241201T171825Z
LAST-MODIFIED:20250328T163226Z
UID:10002008-1744552800-1744563600@www.redlodgemountain.com
SUMMARY:LIVE MUSIC @ The Bierstube - Chad Lore
DESCRIPTION:Wyoming’s one-man-band\, Chad Lore makes his return to the Bierstube\, and hopefully outside this time! Join us for Sunday afternoon of tunes at the Bierstube from 2-5PM!
URL:https://www.redlodgemountain.com/event/live-music-the-bierstube-chad-lore-2/
ATTACH;FMTTYPE=image/jpeg:https://www.redlodgemountain.com/wp-content/uploads/ChadLore.jpg
END:VEVENT
END:VCALENDAR