BEGIN:VCALENDAR
VERSION:2.0
PRODID:-//Red Lodge Mountain - ECPv6.13.2//NONSGML v1.0//EN
CALSCALE:GREGORIAN
METHOD:PUBLISH
X-WR-CALNAME:Red Lodge Mountain
X-ORIGINAL-URL:https://www.redlodgemountain.com
X-WR-CALDESC:Events for Red Lodge Mountain
REFRESH-INTERVAL;VALUE=DURATION:PT1H
X-Robots-Tag:noindex
X-PUBLISHED-TTL:PT1H
BEGIN:VTIMEZONE
TZID:America/Denver
BEGIN:DAYLIGHT
TZOFFSETFROM:-0700
TZOFFSETTO:-0600
TZNAME:MDT
DTSTART:20250309T090000
END:DAYLIGHT
BEGIN:STANDARD
TZOFFSETFROM:-0600
TZOFFSETTO:-0700
TZNAME:MST
DTSTART:20251102T080000
END:STANDARD
END:VTIMEZONE
BEGIN:VEVENT
DTSTART;TZID=America/Denver:20250125T080000
DTEND;TZID=America/Denver:20250127T170000
DTSTAMP:20260422T201803
CREATED:20241201T172305Z
LAST-MODIFIED:20250122T150530Z
UID:10002009-1737792000-1737997200@www.redlodgemountain.com
SUMMARY:Predator Cup (Race)
DESCRIPTION:The competition will begin with a Giant Slalom race on Saturday. The race is scheduled to have two separate runs on Turnpike. \nSunday will feature two runs of Slalom on Turnpike. \nSpectators will be able to walk to the bottom of the course to watch the races. \nTurnpike will be CLOSED for racing for both days.
URL:https://www.redlodgemountain.com/event/predator-cup-race/
ATTACH;FMTTYPE=image/jpeg:https://www.redlodgemountain.com/wp-content/uploads/RaceInProgress.jpg
END:VEVENT
BEGIN:VEVENT
DTSTART;TZID=America/Denver:20250125T090000
DTEND;TZID=America/Denver:20250125T160000
DTSTAMP:20260422T201803
CREATED:20250114T205736Z
LAST-MODIFIED:20250121T203641Z
UID:10002412-1737795600-1737820800@www.redlodgemountain.com
SUMMARY:2025 Mountain Treasure Hunt: Sponsored by Stockman Bank
DESCRIPTION:Join us on a treasure hunt across the mountain! \nSaturday & Sunday | January 25th & 26th | 9:00am to 4:00pm \n25 prizes are up for grabs each day! With a chance to win the Grand Prize: a 2025/26 Season Pass on Saturday & a brand new pair of RMU skis on Sunday! Find any oversized dollar bills scattered across the mountain and bring them down to Grizzly Peak Outdoors at Red Lodge Mountain to redeem! \n  \nSponsored by: \n \n 
URL:https://www.redlodgemountain.com/event/2025-mountain-treasure-hunt-sponsored-by-stockman-bank/2025-01-25/
ATTACH;FMTTYPE=image/jpeg:https://www.redlodgemountain.com/wp-content/uploads/2025MountainTreasureHunt_EventFTImage-New-scaled.jpg
END:VEVENT
END:VCALENDAR