BEGIN:VCALENDAR
VERSION:2.0
PRODID:-//Red Lodge Mountain - ECPv6.13.2//NONSGML v1.0//EN
CALSCALE:GREGORIAN
METHOD:PUBLISH
X-ORIGINAL-URL:https://www.redlodgemountain.com
X-WR-CALDESC:Events for Red Lodge Mountain
REFRESH-INTERVAL;VALUE=DURATION:PT1H
X-Robots-Tag:noindex
X-PUBLISHED-TTL:PT1H
BEGIN:VTIMEZONE
TZID:America/Denver
BEGIN:DAYLIGHT
TZOFFSETFROM:-0700
TZOFFSETTO:-0600
TZNAME:MDT
DTSTART:20240310T090000
END:DAYLIGHT
BEGIN:STANDARD
TZOFFSETFROM:-0600
TZOFFSETTO:-0700
TZNAME:MST
DTSTART:20241103T080000
END:STANDARD
END:VTIMEZONE
BEGIN:VEVENT
DTSTART;TZID=America/Denver:20240921T090000
DTEND;TZID=America/Denver:20240921T170000
DTSTAMP:20260423T150656
CREATED:20240906T195023Z
LAST-MODIFIED:20240906T195023Z
UID:10001995-1726909200-1726938000@www.redlodgemountain.com
SUMMARY:2024 Golf Scramble Hosted by Red Lodge Ice
DESCRIPTION:Come join us on September 21st for the 2024 Golf Scramble hosted by Red Lodge Ice! It’s going to be an awesome day filled with golf\, fun contests\, great food\, and drinks. Contact Andy at redlodgeicemt@gmail.com to get registered or for any questions. See you there!
URL:https://www.redlodgemountain.com/event/2024-golf-scramble-hosted-by-red-lodge-ice/
ATTACH;FMTTYPE=image/jpeg:https://www.redlodgemountain.com/wp-content/uploads/RedLodgeIce_GolfScramble2024-scaled.jpg
END:VEVENT
END:VCALENDAR