BEGIN:VCALENDAR
VERSION:2.0
PRODID:-//Red Lodge Mountain - ECPv6.13.2//NONSGML v1.0//EN
CALSCALE:GREGORIAN
METHOD:PUBLISH
X-ORIGINAL-URL:https://www.redlodgemountain.com
X-WR-CALDESC:Events for Red Lodge Mountain
REFRESH-INTERVAL;VALUE=DURATION:PT1H
X-Robots-Tag:noindex
X-PUBLISHED-TTL:PT1H
BEGIN:VTIMEZONE
TZID:America/Denver
BEGIN:DAYLIGHT
TZOFFSETFROM:-0700
TZOFFSETTO:-0600
TZNAME:MDT
DTSTART:20240310T090000
END:DAYLIGHT
BEGIN:STANDARD
TZOFFSETFROM:-0600
TZOFFSETTO:-0700
TZNAME:MST
DTSTART:20241103T080000
END:STANDARD
END:VTIMEZONE
BEGIN:VEVENT
DTSTART;TZID=America/Denver:20240229T163000
DTEND;TZID=America/Denver:20240229T190000
DTSTAMP:20260423T105400
CREATED:20240205T184902Z
LAST-MODIFIED:20240229T182129Z
UID:10001487-1709224200-1709233200@www.redlodgemountain.com
SUMMARY:TRIVIA NIGHT @ The Bierstube RESCHEDULED
DESCRIPTION:RESCHEDULED – Stay tuned for updates! \nTrivia Night is coming back for a second round at the Bierstube! Join us for a night of great food\, signature cocktails and some more brainteasing trivia! There will be prizes courtesy of Red Lodge Ales! \n  \nWHEN: Thursday\, 2/29/24 @ 4:30 PM \nWHERE: The Bierstube \n  \nReserve a table in the 3:30 PM time slot on OpenTable here: https://www.opentable.com/r/bierstube-at-red-lodge-mountain-red-lodge \nPowered by:
URL:https://www.redlodgemountain.com/event/trivia-night-the-bierstube-round-2/
ATTACH;FMTTYPE=image/jpeg:https://www.redlodgemountain.com/wp-content/uploads/TriviaNight.jpg
END:VEVENT
END:VCALENDAR