BEGIN:VCALENDAR
VERSION:2.0
PRODID:-//Red Lodge Mountain - ECPv6.13.2//NONSGML v1.0//EN
CALSCALE:GREGORIAN
METHOD:PUBLISH
X-ORIGINAL-URL:https://www.redlodgemountain.com
X-WR-CALDESC:Events for Red Lodge Mountain
REFRESH-INTERVAL;VALUE=DURATION:PT1H
X-Robots-Tag:noindex
X-PUBLISHED-TTL:PT1H
BEGIN:VTIMEZONE
TZID:America/Denver
BEGIN:DAYLIGHT
TZOFFSETFROM:-0700
TZOFFSETTO:-0600
TZNAME:MDT
DTSTART:20240310T090000
END:DAYLIGHT
BEGIN:STANDARD
TZOFFSETFROM:-0600
TZOFFSETTO:-0700
TZNAME:MST
DTSTART:20241103T080000
END:STANDARD
END:VTIMEZONE
BEGIN:VEVENT
DTSTART;TZID=America/Denver:20240216T100000
DTEND;TZID=America/Denver:20240216T140000
DTSTAMP:20260423T163836
CREATED:20240111T222122Z
LAST-MODIFIED:20240111T222122Z
UID:10001481-1708077600-1708092000@www.redlodgemountain.com
SUMMARY:Town Series Race League
DESCRIPTION:Town Series is Red Lodge Mountain’s legendary race league that encourages participation from contestants of all ages and skill levels.\nRaces begin on Friday\, January 5\, 2024 and take place every Friday for six consecutive weeks. Winners are announced\, results posted and prizes are awarded! \nFebruary 16th is our make-up date if any of the races need rescheduled for weather. \nBrought to you by our friends at Meadowlark Brewing! \nlearn more
URL:https://www.redlodgemountain.com/event/town-series-race-league-5/
ATTACH;FMTTYPE=image/jpeg:https://www.redlodgemountain.com/wp-content/uploads/Town-Series-Thumbnail.jpg
END:VEVENT
BEGIN:VEVENT
DTSTART;TZID=America/Denver:20240216T170000
DTEND;TZID=America/Denver:20240216T190000
DTSTAMP:20260423T163836
CREATED:20240111T223345Z
LAST-MODIFIED:20240111T223345Z
UID:10001482-1708102800-1708110000@www.redlodgemountain.com
SUMMARY:Town Series After Party
DESCRIPTION:Swing by the Snow Creek Saloon after the races on Friday\, February 16th\, 2024 for food\, drinks\, race results\, and prizes! Starting at 5:00 pm!
URL:https://www.redlodgemountain.com/event/town-series-after-party-7/
ATTACH;FMTTYPE=image/jpeg:https://www.redlodgemountain.com/wp-content/uploads/RLMTownSeries_AfterPartyWeek7.jpg
END:VEVENT
END:VCALENDAR