BEGIN:VCALENDAR
VERSION:2.0
PRODID:-//Red Lodge Mountain - ECPv6.13.2//NONSGML v1.0//EN
CALSCALE:GREGORIAN
METHOD:PUBLISH
X-ORIGINAL-URL:https://www.redlodgemountain.com
X-WR-CALDESC:Events for Red Lodge Mountain
REFRESH-INTERVAL;VALUE=DURATION:PT1H
X-Robots-Tag:noindex
X-PUBLISHED-TTL:PT1H
BEGIN:VTIMEZONE
TZID:America/Denver
BEGIN:DAYLIGHT
TZOFFSETFROM:-0700
TZOFFSETTO:-0600
TZNAME:MDT
DTSTART:20230312T090000
END:DAYLIGHT
BEGIN:STANDARD
TZOFFSETFROM:-0600
TZOFFSETTO:-0700
TZNAME:MST
DTSTART:20231105T080000
END:STANDARD
END:VTIMEZONE
BEGIN:VEVENT
DTSTART;TZID=America/Denver:20230619T080000
DTEND;TZID=America/Denver:20230622T123000
DTSTAMP:20260424T204113
CREATED:20230601T161843Z
LAST-MODIFIED:20230601T162033Z
UID:10001440-1687161600-1687437000@www.redlodgemountain.com
SUMMARY:Junior Golf Academy Week 1
DESCRIPTION:The Junior Golf Academy is an 8-day camp for golfers ages 8 – 14 and focuses on swing fundamentals\, skills testing\, course play\, golf rules\, and golf etiquette. But most of all\, it’s about having fun. The program is capped off with a junior golf tournament and BBQ on the last day. \nSpace is Limited. All skill levels are welcome! Signups are only available in the Golf Shop. \n  \nJune  19th – 22nd & June 26th – 29th \nAges 8 – 10 | 8:00 am – 10:00 am \nAges 11 – 14 | 10:30 am – 12:30 pm \n$119 – Child with Season Pass \n$189 – Child without Season Pass \nJune 29th – Golf Tournament & Barbeque
URL:https://www.redlodgemountain.com/event/junior-golf-academy-week-1/
LOCATION:Red Lodge Mountain Golf Course\, 828 Upper Continental Drive\, Red Lodge\, MT\, 59068\, United States
ATTACH;FMTTYPE=image/jpeg:https://www.redlodgemountain.com/wp-content/uploads/Red_Lodge_Mountain_Golf_Course_Junior_Golf_Group_3.jpg
GEO:45.2025295;-109.2580964
X-APPLE-STRUCTURED-LOCATION;VALUE=URI;X-ADDRESS=Red Lodge Mountain Golf Course 828 Upper Continental Drive Red Lodge MT 59068 United States;X-APPLE-RADIUS=500;X-TITLE=828 Upper Continental Drive:geo:-109.2580964,45.2025295
END:VEVENT
END:VCALENDAR