BEGIN:VCALENDAR
VERSION:2.0
PRODID:-//Red Lodge Mountain - ECPv6.13.2//NONSGML v1.0//EN
CALSCALE:GREGORIAN
METHOD:PUBLISH
X-ORIGINAL-URL:https://www.redlodgemountain.com
X-WR-CALDESC:Events for Red Lodge Mountain
REFRESH-INTERVAL;VALUE=DURATION:PT1H
X-Robots-Tag:noindex
X-PUBLISHED-TTL:PT1H
BEGIN:VTIMEZONE
TZID:America/Denver
BEGIN:DAYLIGHT
TZOFFSETFROM:-0700
TZOFFSETTO:-0600
TZNAME:MDT
DTSTART:20230312T090000
END:DAYLIGHT
BEGIN:STANDARD
TZOFFSETFROM:-0600
TZOFFSETTO:-0700
TZNAME:MST
DTSTART:20231105T080000
END:STANDARD
END:VTIMEZONE
BEGIN:VEVENT
DTSTART;TZID=America/Denver:20230401T110000
DTEND;TZID=America/Denver:20230401T140000
DTSTAMP:20260424T113853
CREATED:20221107T210651Z
LAST-MODIFIED:20221107T212207Z
UID:10001402-1680346800-1680357600@www.redlodgemountain.com
SUMMARY:Mini Monster Park Competition
DESCRIPTION:Details coming soon!
URL:https://www.redlodgemountain.com/event/mini-monster-park-competition/
END:VEVENT
END:VCALENDAR