BEGIN:VCALENDAR
VERSION:2.0
PRODID:-//Red Lodge Mountain - ECPv6.13.2//NONSGML v1.0//EN
CALSCALE:GREGORIAN
METHOD:PUBLISH
X-WR-CALNAME:Red Lodge Mountain
X-ORIGINAL-URL:https://www.redlodgemountain.com
X-WR-CALDESC:Events for Red Lodge Mountain
REFRESH-INTERVAL;VALUE=DURATION:PT1H
X-Robots-Tag:noindex
X-PUBLISHED-TTL:PT1H
BEGIN:VTIMEZONE
TZID:America/Denver
BEGIN:DAYLIGHT
TZOFFSETFROM:-0700
TZOFFSETTO:-0600
TZNAME:MDT
DTSTART:20220313T090000
END:DAYLIGHT
BEGIN:STANDARD
TZOFFSETFROM:-0600
TZOFFSETTO:-0700
TZNAME:MST
DTSTART:20221106T080000
END:STANDARD
END:VTIMEZONE
BEGIN:VEVENT
DTSTART;TZID=America/Denver:20221125T090000
DTEND;TZID=America/Denver:20221125T160000
DTSTAMP:20260424T063358
CREATED:20221107T210257Z
LAST-MODIFIED:20221107T210308Z
UID:10001350-1669366800-1669392000@www.redlodgemountain.com
SUMMARY:Red Lodge Mountain Opening Day
DESCRIPTION:Our scheduled opening day is set for November 25\, 2022! (Weather permitting).
URL:https://www.redlodgemountain.com/event/red-lodge-mountain-opening-day/
END:VEVENT
END:VCALENDAR